Workbook
Name IQ_CH: 110000
Name IQ_CQ: 5000
Name IQ_CY: 10000
Name IQ_DAILY: 500000
Name IQ_FH: 100000
Name IQ_FQ: 500
Name IQ_FY: 1000
Name IQ_LTM: 2000
Name IQ_MONTH: 15000
Name IQ_NTM: 6000
Name IQ_WEEK: 50000
Name IQ_YTD: 3000

Sheet Instructions
A1: PNFP Loan Forgiveness Calculator (EZ Form)
A2: Updated 08/14/2020
A4: This tool is meant to accompany the official SBA Forgiveness Application and assist you in collecting the relevant pieces of data.
A5: This workbook will help you aggregate your numerical inputs into a format consistent with the official SBA application that will be submitted through the Numerated platform.
A7: How to use this workbook
A8: Follow the steps below:
B9: 1 | C9: Review and affirm to one of the three boxes listed on the "Checklist for using the EZ Form" tab.
B10: 2 | C10: Enter pertinent loan data on the "PPP Forgiveness App EZ" tab
B11: 3 | C11: Complete the "Payroll Costs Aggregator" tab to determine your total payroll costs over the covered period.
B12: 4 | C12: Complete the "Non-Payroll Costs Aggregator" to determine your total non-payroll costs over the covered period
A14: Do not attempt to use this workbook in numerical order.
A16: Grey Cells in this workbook indicate USER INPUT is required
A17: White Cells are auto populated and carried throughout the workbook.
A21: A complete listing of all documentation required to be submitted is included in the PPP Application instructions as well as the documentation tabs in this workbook. Additional documentation is required to be retained, but not submitted to the SBA for forgiveness. See the Document Retention Requirement tab for additional information.

Sheet Check List for using EZ Form
A1: You (the Borrower) can apply for forgiveness of your Paycheck Protection Program (PPP) loan using this SBA Form 3508EZ if you can check at least one of the three boxes below. Do not submit this Checklist with your SBA Form 3508EZ.
B3: The Borrower is a self-employed individual, independent contractor, or sole proprietor who had no employees at the time of the PPP loan application and did not include any employee salaries in the computation of average monthly payroll in the Borrower Application Form (SBA Form 2483).
B5: The Borrower did not reduce annual salary or hourly wages of any employee by more than 25 percent during the Covered Period or the Alternative Payroll Covered Period (as defined below) compared to the period between January 1, 2020 and March 31, 2020 (for purposes of this statement, “employees” means only those employees that did not receive, during any single period during 2019, wages or salary at an annualized rate of pay in an amount more than $100,000); AND The Borrower did not reduce the number of employees or the average paid hours of employees between January 1, 2020 and the end of the Covered Period. (Ignore reductions that arose from an inability to rehire individuals who were employees on February 15, 2020 if the Borrower was unable to hire similarly qualified employees for unfilled positions on or before December 31, 2020. Also ignore reductions in an employee’s hours that the Borrower offered to restore and the employee refused. See 85 FR 33004, 33007 (June 1, 2020) for more details.
B7: The Borrower did not reduce annual salary or hourly wages of any employee by more than 25 percent during the Covered Period or the Alternative Payroll Covered Period (as defined below) compared to the period between January 1, 2020 and March 31, 2020 (for purposes of this statement, “employees” means only those employees that did not receive, during any single period during 2019, wages or salary at an annualized rate of pay in an amount more than $100,000); AND The Borrower was unable to operate during the Covered Period at the same level of business activity as before February 15, 2020, due to compliance with requirements established or guidance issued between March 1, 2020 and December 31, 2020 by the Secretary of Health and Human Services, the Director of the Centers for Disease Control and Prevention, or the Occupational Safety and Health Administration, related to the maintenance of standards of sanitation, social distancing, or any other work or customer safety requirement related to COVID-19.

Sheet 1. PPP Forgiveness App EZ
B2: Business Legal Name ("Borrower") | G2: DBA or Tradename, if applicable
B4: Business Address | G4: TIN (EIN, SSN) | I4: Business Phone
G6: Primary Contact | I6: Email Address
B9: SBA PPP Loan Number: | H9: Lender PPP Loan Number:
B11: PPP Loan Amount: | H11: PPP Loan Disbursement Date:
B13: Number of Employees at the time of loan application:
B15: Number of Employees at time of forgiveness application:
L16: Weekly
B17: EIDL Advance Amount: | H17: EIDL Application Number: | L17: Biweekly (every other week)
L18: Twice a month
B19: Payroll Schedule: The frequency with which payroll is paid to employees is: | H19: Biweekly (every other week) | I19: select from drop down | L19: Monthly
L20: Other
B21: Covered Period: | G21: To
B23: Alternative Payroll Covered Period, if applicable: | G23: To
B25: Payroll and Nonpayroll Costs for the Covered Period
B26: Line 1. | C26: Payroll Costs (Prefill from Payroll Costs Aggregator) | J26: ='2. Payroll Costs Aggregator'!J40+'2. Payroll Costs Aggregator'!J146 -> 0
B27: Line 2. | C27: Business Mortgage Interest Payments | J27: ='3. Non-Payroll Costs Aggregator'!E35 -> 0
B28: Line 3. | C28: Business Rent or Lease payments | J28: ='3. Non-Payroll Costs Aggregator'!F35 -> 0
B29: Line 4. | C29: Business Utility Payments | J29: ='3. Non-Payroll Costs Aggregator'!N35 -> 0
B31: Potential Forgiveness Amounts
B32: Line 5. | C32: Add the amounts on lines 1,2,3, and 4: | J32: =SUM(J26:J29) -> 0
B33: Line 6. | C33: PPP Loan Amount | J33: =D11 -> 0
B34: Line 7. | C34: Payroll Cost 60% Requirement (Divide line 1 by .60) | J34: =J26/0.6 -> 0
B36: Forgiveness Amount
B37: Line 8. | C37: Smallest of lines 5, 6, 7 | J37: =MIN(J32:J34) -> 0
B39: Remaining Loan Balance that will not be forgiven | J39: =IF(J33-J37>0,J33-J37,0) -> 0

Sheet 2. Payroll Costs Aggregator
A1: Payroll Costs Aggregator
A3: The purpose of this worksheet is to populate PPP Schedule A
A4: 1.) Compute eligible payroll costs for the "covered period" (8-week or 24-week period following loan funding).
A5: 2.) Grey cells indicate client input
A7: Determination of Covered Period
A8: PPP Loan Disbursement Date
A9: Alternative Payroll Covered Period Start Date (First day of pay period following loan disbursement)
A10: Select Start of forgiveness covered period
A12: Payroll Periods--Reports needed for the following time periods
C13: Beginning | D13: End
A14: Most Recent Full Quarter | C14: 43831 | D14: 43921 | F14: 8
A15: Enter # of weeks for covered period (8 to 24) | C15: 24 | F15: 24
A16: Covered Period (Payroll Costs Only) | C16: =D9 -> 0 | D16: =(C16+(C15*7)-1) -> 167
A17: Covered Period for Non-Payroll Costs | C17: =D8 -> 0 | D17: =(C17+(C15*7)-1) -> 167
A18: The covered period includes a 56 or 168 day time period beginning on the first day of the covered period.
A21: Owner Compensation (Owner-employees, self-employed individuals, or general partners)
A22: Owner Name | B22: Employee Identifier | C22: 2019 Self-Employment Compensation | D22: Max Forgiveness Available | E22: Actual Cash Compensation over Covered Period | G22: employer contributions for employee health insurance | H22: employer contributions to employee retirement plan | I22: Borrower paid State/local tax assessed on employee compensation | J22: Total Payroll Costs
A23: Owner 1 | D23: =IF($C$15>8,(IF((C23>100000), 20833, ((C23/12)*2.5))), (IF($C$15=8,(IF((C23>100000),15385,((C23/52)*8))),""))) -> 0 | J23: =MIN(D23,E23)+SUM(G23:I23) -> 0
A24: Owner 2 | C24: 0 | D24: =IF($C$15>8,(IF((C24>100000), 20833, ((C24/12)*2.5))), (IF($C$15=8,(IF((C24>100000),15385,((C24/52)*8))),""))) -> 0 | J24: =MIN(D24,E24)+SUM(G24:I24) -> 0
D25: =IF($C$15>8,(IF((C25>100000), 20833, ((C25/12)*2.5))), (IF($C$15=8,(IF((C25>100000),15385,((C25/52)*8))),""))) -> 0 | J25: =MIN(D25,E25)+SUM(G25:I25) -> 0
D26: =IF($C$15>8,(IF((C26>100000), 20833, ((C26/12)*2.5))), (IF($C$15=8,(IF((C26>100000),15385,((C26/52)*8))),""))) -> 0 | J26: =MIN(D26,E26)+SUM(G26:I26) -> 0
D27: =IF($C$15>8,(IF((C27>100000), 20833, ((C27/12)*2.5))), (IF($C$15=8,(IF((C27>100000),15385,((C27/52)*8))),""))) -> 0 | J27: =MIN(D27,E27)+SUM(G27:I27) -> 0
D28: =IF($C$15>8,(IF((C28>100000), 20833, ((C28/12)*2.5))), (IF($C$15=8,(IF((C28>100000),15385,((C28/52)*8))),""))) -> 0 | J28: =MIN(D28,E28)+SUM(G28:I28) -> 0
D29: =IF($C$15>8,(IF((C29>100000), 20833, ((C29/12)*2.5))), (IF($C$15=8,(IF((C29>100000),15385,((C29/52)*8))),""))) -> 0 | J29: =MIN(D29,E29)+SUM(G29:I29) -> 0
D30: =IF($C$15>8,(IF((C30>100000), 20833, ((C30/12)*2.5))), (IF($C$15=8,(IF((C30>100000),15385,((C30/52)*8))),""))) -> 0 | J30: =MIN(D30,E30)+SUM(G30:I30) -> 0
D31: =IF($C$15>8,(IF((C31>100000), 20833, ((C31/12)*2.5))), (IF($C$15=8,(IF((C31>100000),15385,((C31/52)*8))),""))) -> 0 | J31: =MIN(D31,E31)+SUM(G31:I31) -> 0
D32: =IF($C$15>8,(IF((C32>100000), 20833, ((C32/12)*2.5))), (IF($C$15=8,(IF((C32>100000),15385,((C32/52)*8))),""))) -> 0 | J32: =MIN(D32,E32)+SUM(G32:I32) -> 0
D33: =IF($C$15>8,(IF((C33>100000), 20833, ((C33/12)*2.5))), (IF($C$15=8,(IF((C33>100000),15385,((C33/52)*8))),""))) -> 0 | J33: =MIN(D33,E33)+SUM(G33:I33) -> 0
D34: =IF($C$15>8,(IF((C34>100000), 20833, ((C34/12)*2.5))), (IF($C$15=8,(IF((C34>100000),15385,((C34/52)*8))),""))) -> 0 | J34: =MIN(D34,E34)+SUM(G34:I34) -> 0
D35: =IF($C$15>8,(IF((C35>100000), 20833, ((C35/12)*2.5))), (IF($C$15=8,(IF((C35>100000),15385,((C35/52)*8))),""))) -> 0 | J35: =MIN(D35,E35)+SUM(G35:I35) -> 0
D36: =IF($C$15>8,(IF((C36>100000), 20833, ((C36/12)*2.5))), (IF($C$15=8,(IF((C36>100000),15385,((C36/52)*8))),""))) -> 0 | J36: =MIN(D36,E36)+SUM(G36:I36) -> 0
... D39: =IF($C$15>8,(IF((C39>100000), 20833, ((C39/12)*2.5))), (IF($C$15=8,(IF((C39>100000),15385,((C39/52)*8))),""))) -> 0 | J39: =MIN(D39,E39)+SUM(G39:I39) -> 0
J40: =SUM(J23:J39) -> 0
A43: Employee Compensation
A44: Employee Name | B44: Employee Identifier | C44: Is Employee Hourly (H) or Salary (S) Other (O) | D44: Cash Compensation over covered period(Note 1) | E44: Wages up to annualized $100K limit | G44: employer contributions for employee health insurance | H44: employer contributions to employee retirement plan | I44: Borrower paid State/local tax assessed on employee compensation | J44: Total Payroll Costs
C45: S | E45: =IF(D45>((100000/52)*$C$15),(100000/52)*$C$15,D45) -> 0 | J45: =SUM(E45:I45) -> 0 | K45: H
C46: S | E46: =IF(D46>((100000/52)*$C$15),(100000/52)*$C$15,D46) -> 0 | J46: =SUM(E46:I46) -> 0 | K46: S
C47: S | E47: =IF(D47>((100000/52)*$C$15),(100000/52)*$C$15,D47) -> 0 | J47: =SUM(E47:I47) -> 0 | K47: O
C48: S | E48: =IF(D48>((100000/52)*$C$15),(100000/52)*$C$15,D48) -> 0 | J48: =SUM(E48:I48) -> 0
C49: S | E49: =IF(D49>((100000/52)*$C$15),(100000/52)*$C$15,D49) -> 0 | J49: =SUM(E49:I49) -> 0
...

Sheet 3. Non-Payroll Costs Aggregator
A1: Non-Payroll Costs Aggregator
A3: The purpose of this worksheet is to populate PPP Forgiveness App EZ
A4: 1.) Compute eligible non-payroll costs for the "covered period" (8-week to 24-week period following loan funding). The red highlighted date below is the last day of the covered period. NOTE: The Alternative Payroll Cover Period is not used for Non-Payroll Costs.
A5: 2.) Grey cells indicate client input
A8: Week # | B8: Week Start | C8: Week End | E8: Business Mortgage interest on real or personal property | F8: Business rent or lease payments for real or personal property | G8: Business Utility Payments
G9: Transportation | H9: Electricity | I9: Gas | J9: Water | K9: Phone | L9: Internet | M9: Other | N9: Total Business Utility
A10: 1 | B10: ='2. Payroll Costs Aggregator'!D8 -> 0 | C10: =B10+6 -> 6 | N10: =SUM(G10:M10) -> 0
A11: 2 | B11: =C10+1 -> 7 | C11: =B11+6 -> 13 | N11: =SUM(G11:M11) -> 0
A12: 3 | B12: =C11+1 -> 14 | C12: =B12+6 -> 20 | N12: =SUM(G12:M12) -> 0
A13: 4 | B13: =C12+1 -> 21 | C13: =B13+6 -> 27 | N13: =SUM(G13:M13) -> 0
A14: 5 | B14: =C13+1 -> 28 | C14: =B14+6 -> 34 | N14: =SUM(G14:M14) -> 0
A15: 6 | B15: =C14+1 -> 35 | C15: =B15+6 -> 41 | N15: =SUM(G15:M15) -> 0
A16: 7 | B16: =C15+1 -> 42 | C16: =B16+6 -> 48 | N16: =SUM(G16:M16) -> 0
A17: 8 | B17: =C16+1 -> 49 | C17: =B17+6 -> 55 | N17: =SUM(G17:M17) -> 0
A18: 9 | B18: =C17+1 -> 56 | C18: =B18+6 -> 62 | N18: =SUM(G18:M18) -> 0
A19: 10 | B19: =C18+1 -> 63 | C19: =B19+6 -> 69 | N19: =SUM(G19:M19) -> 0
A20: 11 | B20: =C19+1 -> 70 | C20: =B20+6 -> 76 | N20: =SUM(G20:M20) -> 0
A21: 12 | B21: =C20+1 -> 77 | C21: =B21+6 -> 83 | N21: =SUM(G21:M21) -> 0
A22: 13 | B22: =C21+1 -> 84 | C22: =B22+6 -> 90 | N22: =SUM(G22:M22) -> 0
... A33: 24 | B33: =C32+1 -> 161 | C33: =B33+6 -> 167 | N33: =SUM(G33:M33) -> 0
C35: Total | E35: =SUM(E10:E33) -> 0 | F35: =SUM(F10:F33) -> 0 | G35: =SUM(G10:G33) -> 0 | H35: =SUM(H10:H33) -> 0 | I35: =SUM(I10:I33) -> 0 | J35: =SUM(J10:J33) -> 0 | K35: =SUM(K10:K33) -> 0 | L35: =SUM(L10:L33) -> 0 | ... N35: =SUM(N10:N33) -> 0

Sheet 4.  Lender requirements
A1: Lender requirements
A2: Pinnacle is required to complete items 1-4 prior to submitting your loan forgiveness request to the SBA.
A4: 1. The lender shall confirm receipt of borrower certifications via the SBA Form 3508 or Form 3508EZ. (Forgiveness Application)
A6: 2. The lender shall confirm receipt of documentation to substantiate the payroll and non-payroll costs as detailed below:
A8: The following documents are explicitly required per the SBA Loan Forgiveness Application Instructions and must be provided to Pinnacle.
A9: To increase the speed of the application review process, please provide the following documents in a manner that allows the reviewer to agree the detailed reports to the summarized information submitted on the application. For example, if you are including 8 payroll schedules, please also include a schedule that shows how those payroll schedule flow into the application by providing a worksheet to show the amounts included in the total. You may use the Payroll Costs Aggregator provided by Pinnacle (and also included in this workbook) to assist you.
A12: Payroll: Documentation verifying the eligible cash compensation and non-cash benefit payments from the Covered Period or the Alternative Payroll Covered Period consisting of each of the following:
A14: a. Bank account statements or third-party payroll service provider reports documenting the amount of cash compensation paid to employees.
A15: b. Tax forms (or equivalent third-party payroll service provider reports) for the periods that overlap with the Covered Period or the Alternative Payroll covered period:
B16: i. Payroll tax filings reported, or that will be reported, to the IRS (typically, form 941); and
B17: ii. State/local quarterly business and individual employee wage reporting and unemployment insurance tax filings reported or that will be reported, to the relevant state.
A18: c. Payment receipts, cancelled checks, or account statement documenting the amount of any employer contributions to employee health insurance and retirement plans that the Borrower included in the forgiveness amount (PPP Schedule A, lines (6) and (7)).
A19: d. If you checked only the second box on the checklist on page 1 of these instructions, the average number of full-time equivalent employees on payroll employed by the Borrower on January 1, 2020 and at the end of the Covered Period.
A21: Non-payroll: Documentation verifying existence of the obligations/services prior to February 15, 2020 and eligible payments from the Covered Period.
A22: a. Business mortgage interest payments: Copy of lender amortization schedule and receipts or cancelled checks verifying eligible payments from the Covered Period; or lender account statements from February 2020 and the months of the Covered Period through one month after the end of the Covered Period verifying interest amounts and eligible payments.
A23: b. Business rent or lease payments: Copy of current lease agreement and receipts or cancelled checks verifying eligible payments from the Covered Period; or lessor account statements from February 2020 and from the Covered Period through one month after the end of the Covered Period verifying eligible payments.
A24: c. Business utility payments: Copy of invoices from February 2020 and those paid during the Covered Period and receipts, cancelled checks, or account statements verifying those eligible payments.
A26: 3. Confirm the borrower's calculations on the application and agreement with the support provided in item 2.
A28: 4. Confirm that the borrower used at least 60% of the potential forgiveness amount was used for payroll purposes.

Sheet Documentation Requirements
A1: Type of Entity | B1: Payroll Costs Documentation Required | C1: Business Mortgage Interest (Real and Personal Property) | D1: Business Rent or Lease Payments | E1: Business Utility Payments
A2: Independent Contractor | B2: 2019 Schedule C or 2019 Personal Tax Return | C2: Copy of lender amortization schedule and reciepts or cancelled checks verifying eligible payments from covered period OR Lender account statements from February 2020 and the months of the covered period though one month after the end of the covered period verifying interest amounts and eligible payments | D2: Copy of current lease agreement and receipts or cancelled checks verifying eligible payments from the covered period OR Lessor account statements from February 2020 and from the covered period through one month after the end of the covered period verifying eligible payments | E2: Copy of invoices from February 2020 and those paid during the covered period and receipts, cancelled checks, or account statements verifying those eligible payments
A3: Sole Proprietor | B3: 2019 Schedule C To support owner's compensation- NO EXCEPTIONS For employee payroll costs - See requirements below
A4: LLC | B4: If Single member, 2019 Schedule C. Otherwise, see requirments below
A5: Partnerhsips and LLCs with Partners | B5: Bank Account statements OR Third-party payroll service provider reports documenting the amount of cash compensation paid as salary/gauranteed payments 2019 K1s (Line 14a) for any ownerhsip compensation of partners Tax forms (or equivelant third-party service provider reports ) for the period(s) that overlapped the cover period or alternative covered period (941s, State Quarterly tax docs, SUTA forms) Payment receipts, cancelled checks, or account statements documenting the amount of any employer contributions to employee health insurance and retirement plans that the borrower included in the forgiveness amount. If the borrower checked ONLY THE SECOND BOX on the EZ form Checklist, the average number of FTEs on payroll employed by the borrower on January 1, 2020 and at the end of the covered period
A6: Corporation (S or C)
A7: Non-Profit
A8: University/School

Sheet Document Rentention Requirement
A1: Documents that Each Borrower Must Maintain but is Not Required to Submit
A3: Documentation supporting the certification that annual salaries or hourly wages were not reduced by more than 25 percent during the Covered Period or the Alternative Payroll Covered Period relative to the period between January 1, 2020 and March 31, 2020. This documentation must include payroll records that separately list each employee and show the amounts paid to each employee during the period between January 1, 2020 and March 31, 2020, and the amounts paid to each employee during the Covered Period or Alternative Payroll Covered Period. Documentation regarding any employee job offers and refusals, refusals to accept restoration of reductions in hours, firings for cause, voluntary resignations, written requests by any employee for reductions in work schedule, and any inability to hire similarly qualified employees for unfilled positions on or before December 31, 2020. Documentation supporting the certification, if applicable, that the Borrower did not reduce the number of employees or the average paid hours of employees between January 1, 2020 and the end of the Covered Period (other than any reductions that arose from an inability to rehire individuals who were employees on February 15, 2020, if the Borrower was unable to hire similarly qualified employees for unfilled positions on or before December 31, 2020). This documentation must include payroll records that separately list each employee and show the amounts paid to each employee between January 1, 2020 and the end of the Covered Period. Documentation supporting the certification, if applicable, that the Borrower was unable to operate between February 15, 2020 and the end of the Covered Period at the same level of business activity as before February 15, 2020 due to compliance with requirements established or guidance issued between March 1, 2020 and December 31, 2020 by the Secretary of Health and Human Services, the Director of the Centers for Disease Control and Prevention, or the Occupational Safety and Health Administration, related to the maintenance of standards of sanitation, social distancing, or any other work or customer safety requirement related to COVID-19. This documentation must include copies of the applicable requirements for each borrower location and relevant borrower financial records. All records relating to the Borrower’s PPP loan, including documentation submitted with its PPP loan application, documentation supporting the Borrower’s certifications as to the necessity of the loan request and its eligibility for a PPP loan, documentation necessary to support the Borrower’s loan forgiveness application, and documentation demonstrating the Borrower’s material compliance with PPP requirements. The Borrower must retain all such documentation in its files for six years after the date the loan is forgiven or repaid in full, and permit authorized representatives of SBA, including representatives of its Office of Inspector General, to access such files upon request.
